Package: csaw Version: 1.34.0 Command: /home/biocbuild/bbs-3.17-bioc/R/bin/R CMD build --keep-empty-dirs --no-resave-data csaw StartedAt: 2023-10-15 16:28:19 -0400 (Sun, 15 Oct 2023) EndedAt: 2023-10-15 16:29:54 -0400 (Sun, 15 Oct 2023) EllapsedTime: 95.0 seconds RetCode: 0 Status: OK PackageFile: csaw_1.34.0.tar.gz PackageFileSize: 389.1 KiB