Package: csaw Version: 1.34.0 Command: rm -rf csaw.buildbin-libdir && mkdir csaw.buildbin-libdir && /Users/biocbuild/BBS/utils/build-universal.sh csaw_1.34.0.tar.gz /Library/Frameworks/R.framework/Resources/bin/R csaw.buildbin-libdir StartedAt: 2023-10-16 09:13:34 -0400 (Mon, 16 Oct 2023) EndedAt: 2023-10-16 09:19:05 -0400 (Mon, 16 Oct 2023) EllapsedTime: 331.1 seconds RetCode: 0 Status: OK PackageFile: csaw_1.34.0.tgz PackageFileSize: 1.216 MiB