Package: crossmeta Version: 1.26.0 Command: F:\biocbuild\bbs-3.17-bioc\R\bin\R.exe CMD INSTALL crossmeta StartedAt: 2023-10-15 16:39:33 -0400 (Sun, 15 Oct 2023) EndedAt: 2023-10-15 16:39:52 -0400 (Sun, 15 Oct 2023) EllapsedTime: 19.0 seconds RetCode: 0 Status: OK