Package: crossmeta Version: 1.26.0 Command: /Library/Frameworks/R.framework/Resources/bin/R CMD build --keep-empty-dirs --no-resave-data crossmeta StartedAt: 2023-10-15 17:42:45 -0400 (Sun, 15 Oct 2023) EndedAt: 2023-10-15 17:51:40 -0400 (Sun, 15 Oct 2023) EllapsedTime: 535.1 seconds RetCode: 0 Status: OK PackageFile: crossmeta_1.26.0.tar.gz PackageFileSize: 2.951 MiB