Package: crlmm Version: 1.58.0 Command: /home/biocbuild/bbs-3.17-bioc/R/bin/R CMD check --install=check:crlmm.install-out.txt --library=/home/biocbuild/bbs-3.17-bioc/R/site-library --timings crlmm_1.58.0.tar.gz StartedAt: 2023-10-15 20:28:17 -0400 (Sun, 15 Oct 2023) EndedAt: 2023-10-15 20:39:48 -0400 (Sun, 15 Oct 2023) EllapsedTime: 690.9 seconds RetCode: 0 Status: WARNINGS CheckDir: crlmm.Rcheck Warnings: 1