Package: crisprseekplus Version: 1.26.0 Command: F:\biocbuild\bbs-3.17-bioc\R\bin\R.exe CMD check --no-multiarch --install=check:crisprseekplus.install-out.txt --library=F:\biocbuild\bbs-3.17-bioc\R\library --no-vignettes --timings crisprseekplus_1.26.0.tar.gz StartedAt: 2023-10-16 01:03:43 -0400 (Mon, 16 Oct 2023) EndedAt: 2023-10-16 01:08:40 -0400 (Mon, 16 Oct 2023) EllapsedTime: 296.9 seconds RetCode: 0 Status: OK CheckDir: crisprseekplus.Rcheck Warnings: 0