Package: crisprseekplus Version: 1.26.0 Command: /Library/Frameworks/R.framework/Resources/bin/R CMD INSTALL crisprseekplus StartedAt: 2023-10-15 16:22:52 -0400 (Sun, 15 Oct 2023) EndedAt: 2023-10-15 16:25:14 -0400 (Sun, 15 Oct 2023) EllapsedTime: 142.3 seconds RetCode: 0 Status: OK