Package: crisprseekplus Version: 1.26.0 Command: /Library/Frameworks/R.framework/Resources/bin/R CMD check --install=check:crisprseekplus.install-out.txt --library=/Library/Frameworks/R.framework/Resources/library --no-vignettes --timings crisprseekplus_1.26.0.tar.gz StartedAt: 2023-10-16 00:24:07 -0400 (Mon, 16 Oct 2023) EndedAt: 2023-10-16 00:37:17 -0400 (Mon, 16 Oct 2023) EllapsedTime: 790.0 seconds RetCode: 0 Status: OK CheckDir: crisprseekplus.Rcheck Warnings: 0