Package: crisprViz Version: 1.2.0 Command: chmod a+r crisprViz -R && F:\biocbuild\bbs-3.17-bioc\R\bin\R.exe CMD build --keep-empty-dirs --no-resave-data crisprViz StartedAt: 2023-10-15 18:25:51 -0400 (Sun, 15 Oct 2023) EndedAt: 2023-10-15 18:28:16 -0400 (Sun, 15 Oct 2023) EllapsedTime: 144.9 seconds RetCode: 0 Status: OK PackageFile: crisprViz_1.2.0.tar.gz PackageFileSize: 689.5 KiB