Package: crisprViz Version: 1.2.0 Command: rm -rf crisprViz.buildbin-libdir && mkdir crisprViz.buildbin-libdir && F:\biocbuild\bbs-3.17-bioc\R\bin\R.exe CMD INSTALL --build --library=crisprViz.buildbin-libdir crisprViz_1.2.0.tar.gz StartedAt: 2023-10-16 08:38:52 -0400 (Mon, 16 Oct 2023) EndedAt: 2023-10-16 08:39:52 -0400 (Mon, 16 Oct 2023) EllapsedTime: 60.7 seconds RetCode: 0 Status: OK PackageFile: crisprViz_1.2.0.zip PackageFileSize: 745.3 KiB