Package: crisprViz Version: 1.2.0 Command: /home/biocbuild/bbs-3.17-bioc/R/bin/R CMD INSTALL crisprViz StartedAt: 2023-10-15 15:51:07 -0400 (Sun, 15 Oct 2023) EndedAt: 2023-10-15 15:51:56 -0400 (Sun, 15 Oct 2023) EllapsedTime: 48.4 seconds RetCode: 0 Status: OK