Package: crisprViz Version: 1.2.0 Command: /home/biocbuild/bbs-3.17-bioc/R/bin/R CMD check --install=check:crisprViz.install-out.txt --library=/home/biocbuild/bbs-3.17-bioc/R/site-library --timings crisprViz_1.2.0.tar.gz StartedAt: 2023-10-15 20:28:07 -0400 (Sun, 15 Oct 2023) EndedAt: 2023-10-15 20:36:02 -0400 (Sun, 15 Oct 2023) EllapsedTime: 475.0 seconds RetCode: 0 Status: OK CheckDir: crisprViz.Rcheck Warnings: 0