Package: crisprVerse Version: 1.2.0 Command: chmod a+r crisprVerse -R && F:\biocbuild\bbs-3.17-bioc\R\bin\R.exe CMD build --keep-empty-dirs --no-resave-data crisprVerse StartedAt: 2023-10-15 18:25:35 -0400 (Sun, 15 Oct 2023) EndedAt: 2023-10-15 18:26:43 -0400 (Sun, 15 Oct 2023) EllapsedTime: 68.1 seconds RetCode: 0 Status: OK PackageFile: crisprVerse_1.2.0.tar.gz PackageFileSize: 296.1 KiB