Package: crisprVerse Version: 1.2.0 Command: /Library/Frameworks/R.framework/Resources/bin/R CMD INSTALL crisprVerse StartedAt: 2023-10-15 16:37:00 -0400 (Sun, 15 Oct 2023) EndedAt: 2023-10-15 16:37:51 -0400 (Sun, 15 Oct 2023) EllapsedTime: 51.2 seconds RetCode: 0 Status: OK