Package: crisprVerse Version: 1.2.0 Command: rm -rf crisprVerse.buildbin-libdir && mkdir crisprVerse.buildbin-libdir && /Users/biocbuild/BBS/utils/build-universal.sh crisprVerse_1.2.0.tar.gz /Library/Frameworks/R.framework/Resources/bin/R crisprVerse.buildbin-libdir StartedAt: 2023-10-16 09:13:19 -0400 (Mon, 16 Oct 2023) EndedAt: 2023-10-16 09:16:06 -0400 (Mon, 16 Oct 2023) EllapsedTime: 167.1 seconds RetCode: 0 Status: OK PackageFile: crisprVerse_1.2.0.tgz PackageFileSize: 308.7 KiB