Package: crisprBwa Version: 1.4.0 Command: /Library/Frameworks/R.framework/Resources/bin/R CMD build --keep-empty-dirs --no-resave-data crisprBwa StartedAt: 2023-10-15 17:41:31 -0400 (Sun, 15 Oct 2023) EndedAt: 2023-10-15 17:43:12 -0400 (Sun, 15 Oct 2023) EllapsedTime: 101.9 seconds RetCode: 0 Status: OK PackageFile: crisprBwa_1.4.0.tar.gz PackageFileSize: 359.5 KiB