Package: crisprBowtie Version: 1.4.0 Command: /home/biocbuild/bbs-3.17-bioc/R/bin/R CMD check --install=check:crisprBowtie.install-out.txt --library=/home/biocbuild/bbs-3.17-bioc/R/site-library --timings crisprBowtie_1.4.0.tar.gz StartedAt: 2023-10-15 20:26:42 -0400 (Sun, 15 Oct 2023) EndedAt: 2023-10-15 20:30:38 -0400 (Sun, 15 Oct 2023) EllapsedTime: 236.3 seconds RetCode: 0 Status: OK CheckDir: crisprBowtie.Rcheck Warnings: 0