Package: crisprBowtie Version: 1.4.0 Command: /home/biocbuild/bbs-3.17-bioc/R/bin/R CMD build --keep-empty-dirs --no-resave-data crisprBowtie StartedAt: 2023-10-15 16:27:17 -0400 (Sun, 15 Oct 2023) EndedAt: 2023-10-15 16:28:02 -0400 (Sun, 15 Oct 2023) EllapsedTime: 44.5 seconds RetCode: 0 Status: OK PackageFile: crisprBowtie_1.4.0.tar.gz PackageFileSize: 319.3 KiB