Package: crisprBowtie Version: 1.4.0 Command: /Library/Frameworks/R.framework/Resources/bin/R CMD check --install=check:crisprBowtie.install-out.txt --library=/Library/Frameworks/R.framework/Resources/library --no-vignettes --timings crisprBowtie_1.4.0.tar.gz StartedAt: 2023-10-16 00:22:49 -0400 (Mon, 16 Oct 2023) EndedAt: 2023-10-16 00:32:14 -0400 (Mon, 16 Oct 2023) EllapsedTime: 565.2 seconds RetCode: 0 Status: OK CheckDir: crisprBowtie.Rcheck Warnings: 0