Package: crisprBase Version: 1.4.0 Command: chmod a+r crisprBase -R && F:\biocbuild\bbs-3.17-bioc\R\bin\R.exe CMD build --keep-empty-dirs --no-resave-data crisprBase StartedAt: 2023-10-15 18:24:26 -0400 (Sun, 15 Oct 2023) EndedAt: 2023-10-15 18:25:01 -0400 (Sun, 15 Oct 2023) EllapsedTime: 35.0 seconds RetCode: 0 Status: OK PackageFile: crisprBase_1.4.0.tar.gz PackageFileSize: 1.68 MiB