Package: crisprBase Version: 1.4.0 Command: /home/biocbuild/bbs-3.17-bioc/R/bin/R CMD build --keep-empty-dirs --no-resave-data crisprBase StartedAt: 2023-10-15 16:27:08 -0400 (Sun, 15 Oct 2023) EndedAt: 2023-10-15 16:27:32 -0400 (Sun, 15 Oct 2023) EllapsedTime: 23.5 seconds RetCode: 0 Status: OK PackageFile: crisprBase_1.4.0.tar.gz PackageFileSize: 1.727 MiB