Package: cqn Version: 1.46.0 Command: rm -rf cqn.buildbin-libdir && mkdir cqn.buildbin-libdir && F:\biocbuild\bbs-3.17-bioc\R\bin\R.exe CMD INSTALL --build --library=cqn.buildbin-libdir cqn_1.46.0.tar.gz StartedAt: 2023-10-16 08:38:31 -0400 (Mon, 16 Oct 2023) EndedAt: 2023-10-16 08:38:40 -0400 (Mon, 16 Oct 2023) EllapsedTime: 9.4 seconds RetCode: 0 Status: OK PackageFile: cqn_1.46.0.zip PackageFileSize: 739.6 KiB