Package: cqn Version: 1.46.0 Command: /home/biocbuild/bbs-3.17-bioc/R/bin/R CMD build --keep-empty-dirs --no-resave-data cqn StartedAt: 2023-10-15 16:27:04 -0400 (Sun, 15 Oct 2023) EndedAt: 2023-10-15 16:27:22 -0400 (Sun, 15 Oct 2023) EllapsedTime: 17.3 seconds RetCode: 0 Status: OK PackageFile: cqn_1.46.0.tar.gz PackageFileSize: 796.7 KiB