Package: cpvSNP Version: 1.32.0 Command: chmod a+r cpvSNP -R && F:\biocbuild\bbs-3.17-bioc\R\bin\R.exe CMD build --keep-empty-dirs --no-resave-data cpvSNP StartedAt: 2023-10-15 18:24:18 -0400 (Sun, 15 Oct 2023) EndedAt: 2023-10-15 18:26:09 -0400 (Sun, 15 Oct 2023) EllapsedTime: 111.3 seconds RetCode: 0 Status: OK PackageFile: cpvSNP_1.32.0.tar.gz PackageFileSize: 1.98 MiB