Package: cpvSNP Version: 1.32.0 Command: rm -rf cpvSNP.buildbin-libdir && mkdir cpvSNP.buildbin-libdir && F:\biocbuild\bbs-3.17-bioc\R\bin\R.exe CMD INSTALL --build --library=cpvSNP.buildbin-libdir cpvSNP_1.32.0.tar.gz StartedAt: 2023-10-16 08:38:29 -0400 (Mon, 16 Oct 2023) EndedAt: 2023-10-16 08:39:20 -0400 (Mon, 16 Oct 2023) EllapsedTime: 50.7 seconds RetCode: 0 Status: OK PackageFile: cpvSNP_1.32.0.zip PackageFileSize: 2.355 MiB