Package: cpvSNP Version: 1.32.0 Command: rm -rf cpvSNP.buildbin-libdir && mkdir cpvSNP.buildbin-libdir && /Users/biocbuild/BBS/utils/build-universal.sh cpvSNP_1.32.0.tar.gz /Library/Frameworks/R.framework/Resources/bin/R cpvSNP.buildbin-libdir StartedAt: 2023-10-16 09:12:57 -0400 (Mon, 16 Oct 2023) EndedAt: 2023-10-16 09:15:10 -0400 (Mon, 16 Oct 2023) EllapsedTime: 132.2 seconds RetCode: 0 Status: OK PackageFile: cpvSNP_1.32.0.tgz PackageFileSize: 2.376 MiB