Package: countsimQC Version: 1.18.0 Command: F:\biocbuild\bbs-3.17-bioc\R\bin\R.exe CMD check --no-multiarch --install=check:countsimQC.install-out.txt --library=F:\biocbuild\bbs-3.17-bioc\R\library --no-vignettes --timings countsimQC_1.18.0.tar.gz StartedAt: 2023-10-16 01:01:16 -0400 (Mon, 16 Oct 2023) EndedAt: 2023-10-16 01:08:11 -0400 (Mon, 16 Oct 2023) EllapsedTime: 414.6 seconds RetCode: 0 Status: OK CheckDir: countsimQC.Rcheck Warnings: 0