Package: countsimQC Version: 1.18.0 Command: /home/biocbuild/bbs-3.17-bioc/R/bin/R CMD INSTALL countsimQC StartedAt: 2023-10-15 15:34:24 -0400 (Sun, 15 Oct 2023) EndedAt: 2023-10-15 15:34:53 -0400 (Sun, 15 Oct 2023) EllapsedTime: 28.1 seconds RetCode: 0 Status: OK