Package: countsimQC Version: 1.18.0 Command: /home/biocbuild/bbs-3.17-bioc/R/bin/R CMD build --keep-empty-dirs --no-resave-data countsimQC StartedAt: 2023-10-15 16:26:45 -0400 (Sun, 15 Oct 2023) EndedAt: 2023-10-15 16:28:27 -0400 (Sun, 15 Oct 2023) EllapsedTime: 102.6 seconds RetCode: 0 Status: OK PackageFile: countsimQC_1.18.0.tar.gz PackageFileSize: 440.5 KiB