Package: countsimQC Version: 1.18.0 Command: /Library/Frameworks/R.framework/Resources/bin/R CMD INSTALL countsimQC StartedAt: 2023-10-15 16:00:21 -0400 (Sun, 15 Oct 2023) EndedAt: 2023-10-15 16:01:53 -0400 (Sun, 15 Oct 2023) EllapsedTime: 91.5 seconds RetCode: 0 Status: OK