Package: countsimQC Version: 1.18.0 Command: rm -rf countsimQC.buildbin-libdir && mkdir countsimQC.buildbin-libdir && /Users/biocbuild/BBS/utils/build-universal.sh countsimQC_1.18.0.tar.gz /Library/Frameworks/R.framework/Resources/bin/R countsimQC.buildbin-libdir StartedAt: 2023-10-16 09:12:54 -0400 (Mon, 16 Oct 2023) EndedAt: 2023-10-16 09:14:28 -0400 (Mon, 16 Oct 2023) EllapsedTime: 93.8 seconds RetCode: 0 Status: OK PackageFile: countsimQC_1.18.0.tgz PackageFileSize: 490.1 KiB