Package: cosmosR Version: 1.8.0 Command: /Library/Frameworks/R.framework/Resources/bin/R CMD INSTALL cosmosR StartedAt: 2023-10-15 15:44:58 -0400 (Sun, 15 Oct 2023) EndedAt: 2023-10-15 15:45:12 -0400 (Sun, 15 Oct 2023) EllapsedTime: 14.3 seconds RetCode: 0 Status: OK