Package: cosmosR Version: 1.8.0 Command: /Library/Frameworks/R.framework/Resources/bin/R CMD build --keep-empty-dirs --no-resave-data cosmosR StartedAt: 2023-10-15 17:40:03 -0400 (Sun, 15 Oct 2023) EndedAt: 2023-10-15 17:40:31 -0400 (Sun, 15 Oct 2023) EllapsedTime: 28.2 seconds RetCode: 0 Status: OK PackageFile: cosmosR_1.8.0.tar.gz PackageFileSize: 3.357 MiB