Package: cosmiq Version: 1.34.0 Command: chmod a+r cosmiq -R && F:\biocbuild\bbs-3.17-bioc\R\bin\R.exe CMD build --keep-empty-dirs --no-resave-data cosmiq StartedAt: 2023-10-15 18:23:42 -0400 (Sun, 15 Oct 2023) EndedAt: 2023-10-15 18:25:50 -0400 (Sun, 15 Oct 2023) EllapsedTime: 128.2 seconds RetCode: 0 Status: OK PackageFile: cosmiq_1.34.0.tar.gz PackageFileSize: 542 KiB