Package: cosmiq Version: 1.34.0 Command: rm -rf cosmiq.buildbin-libdir && mkdir cosmiq.buildbin-libdir && F:\biocbuild\bbs-3.17-bioc\R\bin\R.exe CMD INSTALL --build --library=cosmiq.buildbin-libdir cosmiq_1.34.0.tar.gz StartedAt: 2023-10-16 08:38:14 -0400 (Mon, 16 Oct 2023) EndedAt: 2023-10-16 08:38:56 -0400 (Mon, 16 Oct 2023) EllapsedTime: 42.1 seconds RetCode: 0 Status: OK PackageFile: cosmiq_1.34.0.zip PackageFileSize: 298.5 KiB