Package: cosmiq Version: 1.34.0 Command: /home/biocbuild/bbs-3.17-bioc/R/bin/R CMD check --install=check:cosmiq.install-out.txt --library=/home/biocbuild/bbs-3.17-bioc/R/site-library --timings cosmiq_1.34.0.tar.gz StartedAt: 2023-10-15 20:23:28 -0400 (Sun, 15 Oct 2023) EndedAt: 2023-10-15 20:30:33 -0400 (Sun, 15 Oct 2023) EllapsedTime: 425.0 seconds RetCode: 0 Status: OK CheckDir: cosmiq.Rcheck Warnings: 0