Package: cosmiq Version: 1.34.0 Command: /home/biocbuild/bbs-3.17-bioc/R/bin/R CMD build --keep-empty-dirs --no-resave-data cosmiq StartedAt: 2023-10-15 16:26:24 -0400 (Sun, 15 Oct 2023) EndedAt: 2023-10-15 16:28:21 -0400 (Sun, 15 Oct 2023) EllapsedTime: 117.5 seconds RetCode: 0 Status: OK PackageFile: cosmiq_1.34.0.tar.gz PackageFileSize: 542 KiB