Package: cosmiq Version: 1.34.0 Command: /Library/Frameworks/R.framework/Resources/bin/R CMD INSTALL cosmiq StartedAt: 2023-10-15 16:12:29 -0400 (Sun, 15 Oct 2023) EndedAt: 2023-10-15 16:14:15 -0400 (Sun, 15 Oct 2023) EllapsedTime: 106.1 seconds RetCode: 0 Status: OK