Package: cosmiq Version: 1.34.0 Command: /Library/Frameworks/R.framework/Resources/bin/R CMD build --keep-empty-dirs --no-resave-data cosmiq StartedAt: 2023-10-15 17:40:00 -0400 (Sun, 15 Oct 2023) EndedAt: 2023-10-15 17:43:59 -0400 (Sun, 15 Oct 2023) EllapsedTime: 238.4 seconds RetCode: 0 Status: OK PackageFile: cosmiq_1.34.0.tar.gz PackageFileSize: 541.1 KiB