Package: coseq Version: 1.24.0 Command: F:\biocbuild\bbs-3.17-bioc\R\bin\R.exe CMD INSTALL coseq StartedAt: 2023-10-15 16:35:31 -0400 (Sun, 15 Oct 2023) EndedAt: 2023-10-15 16:36:12 -0400 (Sun, 15 Oct 2023) EllapsedTime: 40.7 seconds RetCode: 0 Status: OK