Package: coseq Version: 1.24.0 Command: chmod a+r coseq -R && F:\biocbuild\bbs-3.17-bioc\R\bin\R.exe CMD build --keep-empty-dirs --no-resave-data coseq StartedAt: 2023-10-15 18:23:31 -0400 (Sun, 15 Oct 2023) EndedAt: 2023-10-15 18:27:35 -0400 (Sun, 15 Oct 2023) EllapsedTime: 244.0 seconds RetCode: 0 Status: OK PackageFile: coseq_1.24.0.tar.gz PackageFileSize: 1.01 MiB