Package: coseq Version: 1.24.0 Command: rm -rf coseq.buildbin-libdir && mkdir coseq.buildbin-libdir && F:\biocbuild\bbs-3.17-bioc\R\bin\R.exe CMD INSTALL --build --library=coseq.buildbin-libdir coseq_1.24.0.tar.gz StartedAt: 2023-10-16 08:38:13 -0400 (Mon, 16 Oct 2023) EndedAt: 2023-10-16 08:38:52 -0400 (Mon, 16 Oct 2023) EllapsedTime: 39.0 seconds RetCode: 0 Status: OK PackageFile: coseq_1.24.0.zip PackageFileSize: 1.4 MiB