Package: coseq Version: 1.24.0 Command: /home/biocbuild/bbs-3.17-bioc/R/bin/R CMD check --install=check:coseq.install-out.txt --library=/home/biocbuild/bbs-3.17-bioc/R/site-library --timings coseq_1.24.0.tar.gz StartedAt: 2023-10-15 20:23:07 -0400 (Sun, 15 Oct 2023) EndedAt: 2023-10-15 20:30:03 -0400 (Sun, 15 Oct 2023) EllapsedTime: 415.7 seconds RetCode: 0 Status: OK CheckDir: coseq.Rcheck Warnings: 0