Package: coseq Version: 1.24.0 Command: rm -rf coseq.buildbin-libdir && mkdir coseq.buildbin-libdir && /Users/biocbuild/BBS/utils/build-universal.sh coseq_1.24.0.tar.gz /Library/Frameworks/R.framework/Resources/bin/R coseq.buildbin-libdir StartedAt: 2023-10-16 09:12:32 -0400 (Mon, 16 Oct 2023) EndedAt: 2023-10-16 09:14:14 -0400 (Mon, 16 Oct 2023) EllapsedTime: 102.1 seconds RetCode: 0 Status: OK PackageFile: coseq_1.24.0.tgz PackageFileSize: 2.116 MiB