Package: copa Version: 1.68.0 Command: chmod a+r copa -R && F:\biocbuild\bbs-3.17-bioc\R\bin\R.exe CMD build --keep-empty-dirs --no-resave-data copa StartedAt: 2023-10-15 18:21:45 -0400 (Sun, 15 Oct 2023) EndedAt: 2023-10-15 18:22:00 -0400 (Sun, 15 Oct 2023) EllapsedTime: 15.0 seconds RetCode: 0 Status: OK PackageFile: copa_1.68.0.tar.gz PackageFileSize: 121.3 KiB