Package: copa Version: 1.68.0 Command: /home/biocbuild/bbs-3.17-bioc/R/bin/R CMD check --install=check:copa.install-out.txt --library=/home/biocbuild/bbs-3.17-bioc/R/site-library --timings copa_1.68.0.tar.gz StartedAt: 2023-10-15 20:21:40 -0400 (Sun, 15 Oct 2023) EndedAt: 2023-10-15 20:22:04 -0400 (Sun, 15 Oct 2023) EllapsedTime: 24.0 seconds RetCode: 0 Status: OK CheckDir: copa.Rcheck Warnings: 0