Package: copa Version: 1.68.0 Command: rm -rf copa.buildbin-libdir && mkdir copa.buildbin-libdir && /Users/biocbuild/BBS/utils/build-universal.sh copa_1.68.0.tar.gz /Library/Frameworks/R.framework/Resources/bin/R copa.buildbin-libdir StartedAt: 2023-10-16 09:12:04 -0400 (Mon, 16 Oct 2023) EndedAt: 2023-10-16 09:12:15 -0400 (Mon, 16 Oct 2023) EllapsedTime: 11.5 seconds RetCode: 0 Status: OK PackageFile: copa_1.68.0.tgz PackageFileSize: 158.7 KiB