Package: convert Version: 1.76.0 Command: chmod a+r convert -R && F:\biocbuild\bbs-3.17-bioc\R\bin\R.exe CMD build --keep-empty-dirs --no-resave-data convert StartedAt: 2023-10-15 18:21:35 -0400 (Sun, 15 Oct 2023) EndedAt: 2023-10-15 18:21:44 -0400 (Sun, 15 Oct 2023) EllapsedTime: 9.0 seconds RetCode: 0 Status: OK PackageFile: convert_1.76.0.tar.gz PackageFileSize: 50.29 KiB