Package: convert Version: 1.76.0 Command: rm -rf convert.buildbin-libdir && mkdir convert.buildbin-libdir && F:\biocbuild\bbs-3.17-bioc\R\bin\R.exe CMD INSTALL --build --library=convert.buildbin-libdir convert_1.76.0.tar.gz StartedAt: 2023-10-16 08:37:52 -0400 (Mon, 16 Oct 2023) EndedAt: 2023-10-16 08:37:59 -0400 (Mon, 16 Oct 2023) EllapsedTime: 6.9 seconds RetCode: 0 Status: OK PackageFile: convert_1.76.0.zip PackageFileSize: 98.14 KiB