Package: conumee Version: 1.34.0 Command: /Library/Frameworks/R.framework/Resources/bin/R CMD build --keep-empty-dirs --no-resave-data conumee StartedAt: 2023-10-15 17:37:08 -0400 (Sun, 15 Oct 2023) EndedAt: 2023-10-15 17:50:04 -0400 (Sun, 15 Oct 2023) EllapsedTime: 775.6 seconds RetCode: 0 Status: OK PackageFile: conumee_1.34.0.tar.gz PackageFileSize: 1.227 MiB